BEGIN:VCALENDAR
PRODID:-//github.com/rianjs/ical.net//NONSGML ical.net 4.0//EN
VERSION:2.0
BEGIN:VEVENT
DESCRIPTION:offen für interessierte Mitglieder und Gäste\nhttps://touren-t
 ermine.adfc.de/radveranstaltung/147806-offene-vorstandssitzung-des-adfc-e
 ssen
DTEND:20250103T203000Z
DTSTAMP:20260421T100935Z
DTSTART:20250103T173000Z
LOCATION:Essen (Innenstadt)\, ADFC Essen Geschäftsstelle\, Rottstraße 5\, 
 45127 Essen
SEQUENCE:0
SUMMARY:Offene Vorstandssitzung des ADFC Essen
UID:d9492d0b-3efb-42a8-9eea-515db8bcbf1e
URL:https://touren-termine.adfc.de/radveranstaltung/147806-offene-vorstand
 ssitzung-des-adfc-essen
END:VEVENT
END:VCALENDAR
