BEGIN:VCALENDAR
PRODID:-//github.com/rianjs/ical.net//NONSGML ical.net 4.0//EN
VERSION:2.0
BEGIN:VEVENT
DESCRIPTION:Einfache Feierabend-Radtouren rund um Stadthagen. Jeder\, idea
 l auch für Einsteiger\, der ein verkehrssicheres Fahrrad besitzt und sich
  auf dem Fahrrad wohlfühlt\, kann gerne teilnehmen.\nhttps://touren-termi
 ne.adfc.de/radveranstaltung/178490-mittwochsradeln-rund-um-stadthagen-
DTEND:20260527T190000Z
DTSTAMP:20260420T174213Z
DTSTART:20260527T160000Z
LOCATION:Marktplatz \,Marktbrunnen\, 31655 Stadthagen
SEQUENCE:0
SUMMARY:Mittwochsradeln rund um Stadthagen
UID:26529953-8be3-4897-b36f-95d6ec0f8439
URL:https://touren-termine.adfc.de/radveranstaltung/178490-mittwochsradeln
 -rund-um-stadthagen-
END:VEVENT
END:VCALENDAR
