BEGIN:VCALENDAR
PRODID:-//github.com/rianjs/ical.net//NONSGML ical.net 4.0//EN
VERSION:2.0
BEGIN:VEVENT
DESCRIPTION:Feierabendtour übern Hardt und Arnried nach Eberfing\nhttps://
 touren-termine.adfc.de/radveranstaltung/197504-feierabendtour
DTEND:20260717T190000Z
DTSTAMP:20260421T100630Z
DTSTART:20260717T150000Z
LOCATION:Marienplatz\, 82362 Weilheim
SEQUENCE:0
SUMMARY:Feierabendtour
UID:242dede9-caf2-490e-b451-8204497bdc57
URL:https://touren-termine.adfc.de/radveranstaltung/197504-feierabendtour
END:VEVENT
END:VCALENDAR
