BEGIN:VCALENDAR
PRODID:-//github.com/rianjs/ical.net//NONSGML ical.net 4.0//EN
VERSION:2.0
BEGIN:VEVENT
DESCRIPTION:Die leicht bergige\, landschaftlich ansprechende Tour führt un
 s vorbei an den Wasserschlössern Wendlinghausen und Brake bis zur hübsche
 n Altstadt von Lemgo. Zurück geht es durch das Kalletal nach Rinte\nhttps
 ://touren-termine.adfc.de/radveranstaltung/130672-radtour-ins-lipperland
DTEND:20240818T160000Z
DTSTAMP:20260420T210200Z
DTSTART:20240818T080000Z
LOCATION:Marktplatz\, 31737 Rinteln
SEQUENCE:0
SUMMARY:Radtour ins Lipperland
UID:d4ded16b-1c81-42fa-b63b-06a2d889f2fe
URL:https://touren-termine.adfc.de/radveranstaltung/130672-radtour-ins-lip
 perland
END:VEVENT
END:VCALENDAR
