BEGIN:VCALENDAR
PRODID:-//github.com/rianjs/ical.net//NONSGML ical.net 4.0//EN
VERSION:2.0
BEGIN:VEVENT
DESCRIPTION:Heimat.Radeln\nMehr als Trachtenjanker und Stammtisch.\nEine R
 adtour um Gauting und seine Ortsteile.\nhttps://touren-termine.adfc.de/ra
 dveranstaltung/198576-heimaterlebnistag-rund-um-gauting
DTEND:20260503T120000Z
DTSTAMP:20260420T114417Z
DTSTART:20260503T080000Z
LOCATION:Rathaus\, 82131 Gauting
SEQUENCE:0
SUMMARY:Heimat.Erlebnistag. Rund um Gauting.
UID:c05dc3a4-6f3b-4b38-8119-a542ad1e45f5
URL:https://touren-termine.adfc.de/radveranstaltung/198576-heimaterlebnist
 ag-rund-um-gauting
END:VEVENT
END:VCALENDAR
