BEGIN:VCALENDAR
PRODID:-//github.com/rianjs/ical.net//NONSGML ical.net 4.0//EN
VERSION:2.0
BEGIN:VEVENT
DESCRIPTION:Vom Neckar an den Rand der Alb und weiter über Nürtingen ins S
 iebenmühlental.\nhttps://touren-termine.adfc.de/radveranstaltung/136023-v
 on-plochingen-zum-schlossplatz
DTEND:20240825T150000Z
DTSTAMP:20260424T144247Z
DTSTART:20240825T064500Z
LOCATION:Kegelenstraße 12\, 70372 Stuttgart
SEQUENCE:0
SUMMARY:Von Plochingen zum Schlossplatz
UID:243492b6-82d1-4de8-924e-359ee0400fe2
URL:https://touren-termine.adfc.de/radveranstaltung/136023-von-plochingen-
 zum-schlossplatz
END:VEVENT
END:VCALENDAR
