BEGIN:VCALENDAR
PRODID:-//github.com/rianjs/ical.net//NONSGML ical.net 4.0//EN
VERSION:2.0
BEGIN:VEVENT
DESCRIPTION:Altmühlsee Festival mit Übernachtung im Matratzenlager am Camp
 ingplatz Schlungenhof\nhttps://touren-termine.adfc.de/radveranstaltung/13
 5186-altmuhlbrombachseetour
DTEND:20240820T150000Z
DTSTAMP:20260421T100926Z
DTSTART:20240817T070000Z
LOCATION:Bahnhofplatz\, 91301 Forchheim
SEQUENCE:0
SUMMARY:Altmühl/Brombachsee-Tour
UID:858b083c-7574-4d83-9fcc-ee97f5cccbd0
URL:https://touren-termine.adfc.de/radveranstaltung/135186-altmuhlbrombach
 seetour
END:VEVENT
END:VCALENDAR
