BEGIN:VCALENDAR
PRODID:-//github.com/rianjs/ical.net//NONSGML ical.net 4.0//EN
VERSION:2.0
BEGIN:VEVENT
DESCRIPTION:Wir bieten verschiedene Strecken zwischen 25 km und 35 km Läng
 e mit einer Fahrtdauer von ca. 2 Stunden an.\nhttps://touren-termine.adfc
 .de/radveranstaltung/178893-feierabendtour-parkplatz-donauarena
DTEND:20260909T190000Z
DTSTAMP:20260421T160930Z
DTSTART:20260909T160000Z
LOCATION:Parkplatz Donau-Arena\, Walhalla-Allee\, 93055 Regensburg
SEQUENCE:0
SUMMARY:Feierabendtour: Parkplatz Donau-Arena
UID:7e8f0bf0-238e-494f-a261-03ca9c6c1c11
URL:https://touren-termine.adfc.de/radveranstaltung/178893-feierabendtour-
 parkplatz-donauarena
END:VEVENT
END:VCALENDAR
