BEGIN:VCALENDAR
PRODID:-//github.com/rianjs/ical.net//NONSGML ical.net 4.0//EN
VERSION:2.0
BEGIN:VEVENT
DESCRIPTION:In gemütlicher Runde plaudern Radfahrbegeisterte über Touren\,
  Technik\, Verkehr usw.. Gäste sind herzlich eingeladen.\nhttps://touren-
 termine.adfc.de/radveranstaltung/172791-monatliches-treffen-4-marz-thaers
 -wirtshaus
DTEND:20260304T203000Z
DTSTAMP:20260421T184948Z
DTSTART:20260304T173000Z
LOCATION:Thaerplatz 1\, 29221 Celle
SEQUENCE:0
SUMMARY:Monatliches Treffen\, 4. März (Thaers Wirtshaus)
UID:594d1a81-12ee-411f-bf21-4a69c1f31bae
URL:https://touren-termine.adfc.de/radveranstaltung/172791-monatliches-tre
 ffen-4-marz-thaers-wirtshaus
END:VEVENT
END:VCALENDAR
