BEGIN:VCALENDAR
PRODID:-//github.com/rianjs/ical.net//NONSGML ical.net 4.0//EN
VERSION:2.0
BEGIN:VEVENT
DESCRIPTION:20 km-Runde zwischen Eckerde und Gehrdener Berg\nhttps://toure
 n-termine.adfc.de/radveranstaltung/195455-fitnesstour-2
DTEND:20260322T103000Z
DTSTAMP:20260421T102906Z
DTSTART:20260322T090000Z
LOCATION:Kurt-Schumacher-Straße 1\, 30974 Wennigsen (Deister)
SEQUENCE:0
SUMMARY:Fitnesstour 2
UID:a93c9ff9-063d-4a21-b2e7-9c54269a4c90
URL:https://touren-termine.adfc.de/radveranstaltung/195455-fitnesstour-2
END:VEVENT
END:VCALENDAR
