BEGIN:VCALENDAR
PRODID:-//github.com/rianjs/ical.net//NONSGML ical.net 4.0//EN
VERSION:2.0
BEGIN:VEVENT
DESCRIPTION:Von Crailsheim aus dem Jagsttal ins Bühlertal\, dann ein Stück
  Rottal und schließlich im Murrtal nach Backnang\nhttps://touren-termine.
 adfc.de/radveranstaltung/174446-radtour-von-crailsheim-nach-backnang
DTEND:20251101T160000Z
DTSTAMP:20260424T143934Z
DTSTART:20251101T074000Z
LOCATION:Baustraße Stuttgart 21\, 70173 Stuttgart
SEQUENCE:0
SUMMARY:Radtour von Crailsheim nach Backnang
UID:6e9ea94e-18bf-4f48-b29b-c40936caf0b6
URL:https://touren-termine.adfc.de/radveranstaltung/174446-radtour-von-cra
 ilsheim-nach-backnang
END:VEVENT
END:VCALENDAR
