BEGIN:VCALENDAR
PRODID:-//github.com/rianjs/ical.net//NONSGML ical.net 4.0//EN
VERSION:2.0
BEGIN:VEVENT
DESCRIPTION:Wöchentliche freitags Radtouren der ADFC Ortsgruppe Hattingen\
 nhttps://touren-termine.adfc.de/radveranstaltung/190033-auf-ins-wochenend
 e
DTEND:20260904T160000Z
DTSTAMP:20260421T204223Z
DTSTART:20260904T130000Z
LOCATION:Parkplatz Holschentor\, Talstraße 8\, 45525 Hattingen
SEQUENCE:0
SUMMARY:Auf ins Wochenende
UID:41636c6d-8fdc-4b1f-b0d8-2ba1b815dacc
URL:https://touren-termine.adfc.de/radveranstaltung/190033-auf-ins-wochene
 nde
END:VEVENT
END:VCALENDAR
