BEGIN:VCALENDAR
PRODID:-//github.com/rianjs/ical.net//NONSGML ical.net 4.0//EN
VERSION:2.0
BEGIN:VEVENT
DESCRIPTION:Fahrrad-Demo: Wir fordern den Kreistag und die in ihm vertrete
 nen Parteien auf\, eine Lösung zu finden\, die Mittel für  "Siegtal pur" 
  in Siegen-Wittgenstein für 2025 und Folgejahre bereit zu stellen.\nhttps
 ://touren-termine.adfc.de/radveranstaltung/132247--siegtal-pur-muss-in-si
 egenwittgenstein-bleiben
DTEND:20240707T110000Z
DTSTAMP:20260422T234436Z
DTSTART:20240707T080000Z
LOCATION:Amtsstraße (Rathaus)\, 57250 Netphen
SEQUENCE:0
SUMMARY: "Siegtal pur" muss in Siegen-Wittgenstein bleiben
UID:96fbfaec-66bb-4cfb-929a-82fd1f1cb46d
URL:https://touren-termine.adfc.de/radveranstaltung/132247--siegtal-pur-mu
 ss-in-siegenwittgenstein-bleiben
END:VEVENT
END:VCALENDAR
