BEGIN:VCALENDAR
PRODID:-//github.com/rianjs/ical.net//NONSGML ical.net 4.0//EN
VERSION:2.0
BEGIN:VEVENT
DESCRIPTION:Du willst die Radfahrsituation in Korschenbroich verbessern? D
 ann bist du hier richtig.\nhttps://touren-termine.adfc.de/radveranstaltun
 g/137388-arbeitskreis-mobilitat-und-sicherheit
DTEND:20240919T190000Z
DTSTAMP:20260423T151754Z
DTSTART:20240919T163000Z
LOCATION:Don-Bosco-Straße 4-6\, Eingang Borrenstraße\, 41352 Korschenbroich
SEQUENCE:0
SUMMARY:Arbeitskreis Mobilität und Sicherheit
UID:7ce7f9c1-dc00-40b1-a200-d4717633ec83
URL:https://touren-termine.adfc.de/radveranstaltung/137388-arbeitskreis-mo
 bilitat-und-sicherheit
END:VEVENT
END:VCALENDAR
