BEGIN:VCALENDAR
PRODID:-//github.com/rianjs/ical.net//NONSGML ical.net 4.0//EN
VERSION:2.0
BEGIN:VEVENT
DESCRIPTION:Stammtisch ADFC Neustadt / Haßloch - 23.04.2026\nhttps://toure
 n-termine.adfc.de/radveranstaltung/196479-stammtisch-adfc-neustadt-hasslo
 ch-23042026
DTEND:20260423T190000Z
DTSTAMP:20260425T172100Z
DTSTART:20260423T160000Z
LOCATION:Harthäuserweg 40\, 67433 Neustadt an der Weinstraße
SEQUENCE:0
SUMMARY:Stammtisch ADFC Neustadt / Haßloch - 23.04.2026
UID:7ff7210f-b765-44bf-a478-cfc7712d7579
URL:https://touren-termine.adfc.de/radveranstaltung/196479-stammtisch-adfc
 -neustadt-hassloch-23042026
END:VEVENT
END:VCALENDAR
