BEGIN:VCALENDAR
PRODID:-//github.com/rianjs/ical.net//NONSGML ical.net 4.0//EN
VERSION:2.0
BEGIN:VEVENT
DESCRIPTION:Wir radeln über Radwege und Nebenstraßen nach Leutershausen. T
 eilstrecken der Tour können mit der S-Bahn gefahren werden. Somit verkürz
 t sich die Streckenlänge individuell. Anmeldeschluss 11.06.2026\nhttps://
 touren-termine.adfc.de/radveranstaltung/191647-westwarts-nach-leutershaus
 en-zu-gustav-weisskopf
DTEND:20260614T180000Z
DTSTAMP:20260423T202144Z
DTSTART:20260614T054500Z
LOCATION:Nürnberg\, U-Bahn-Station Röthenbach\, am Aufzug\, 90449 Nürnberg
SEQUENCE:0
SUMMARY:Westwärts nach Leutershausen - zu Gustav Weißkopf
UID:391a7f4f-7208-4453-aba6-95a46a1db508
URL:https://touren-termine.adfc.de/radveranstaltung/191647-westwarts-nach-
 leutershausen-zu-gustav-weisskopf
END:VEVENT
END:VCALENDAR
