BEGIN:VCALENDAR
PRODID:-//github.com/rianjs/ical.net//NONSGML ical.net 4.0//EN
VERSION:2.0
BEGIN:VEVENT
DESCRIPTION:Unsere Geschäftsstelle ist für alle Anliegen und offenen Frage
 n geöffnet.\nhttps://touren-termine.adfc.de/radveranstaltung/147861-offnu
 ngszeit-unserer-geschaftsstelle
DTEND:20250220T170000Z
DTSTAMP:20260421T120626Z
DTSTART:20250220T150000Z
LOCATION:Essen (Innenstadt)\, ADFC Essen Geschäftsstelle\, Rottstraße 5\, 
 45127 Essen
SEQUENCE:0
SUMMARY:Öffnungszeit unserer Geschäftsstelle
UID:f8cd9da1-fa34-4ed2-8d2e-7afbe9194dd8
URL:https://touren-termine.adfc.de/radveranstaltung/147861-offnungszeit-un
 serer-geschaftsstelle
END:VEVENT
END:VCALENDAR
