BEGIN:VCALENDAR
PRODID:-//github.com/rianjs/ical.net//NONSGML ical.net 4.0//EN
VERSION:2.0
BEGIN:VEVENT
DESCRIPTION:Wer günstig ein Fahrrad kaufen will\, ist am Mobilitätstag bei
 m Gebrauchtfahrradmarkt des Hammer ADFC richtig.\nhttps://touren-termine.
 adfc.de/radveranstaltung/155977-mobilitatstag
DTEND:20250406T160000Z
DTSTAMP:20260422T000146Z
DTSTART:20250406T110000Z
LOCATION:Platz der Deutschen Einheit\, 59065 Hamm
SEQUENCE:0
SUMMARY:Mobilitätstag
UID:6c27fde0-3601-480b-903a-27a1a5293ecd
URL:https://touren-termine.adfc.de/radveranstaltung/155977-mobilitatstag
END:VEVENT
END:VCALENDAR
