BEGIN:VCALENDAR
PRODID:-//github.com/rianjs/ical.net//NONSGML ical.net 4.0//EN
VERSION:2.0
BEGIN:VEVENT
DESCRIPTION:Leichte bis mittelschwere Feierabendtour in und um Bad Cannsta
 tt\nhttps://touren-termine.adfc.de/radveranstaltung/159724-cannstatter-ab
 endtour
DTEND:20250916T190000Z
DTSTAMP:20260424T143303Z
DTSTART:20250916T163000Z
LOCATION:Sulzerrainstraße 2\, 70372 Stuttgart
SEQUENCE:0
SUMMARY:Cannstatter Abendtour
UID:0e78f4e4-254f-414b-a2de-23b49a99fc4d
URL:https://touren-termine.adfc.de/radveranstaltung/159724-cannstatter-abe
 ndtour
END:VEVENT
END:VCALENDAR
