BEGIN:VCALENDAR
PRODID:-//github.com/rianjs/ical.net//NONSGML ical.net 4.0//EN
VERSION:2.0
BEGIN:VEVENT
DESCRIPTION:🌲🚴‍♀️ Feierabend-Graveln! Gemeinsam erkunden wir tolle Strec
 ken rund um Stuttgart – entspannt & gesellig\, kein Rennen. Danach gemein
 samer Ausklang. Sei dabei!\nhttps://touren-termine.adfc.de/radveranstaltu
 ng/158902-neu-gravel-social-afterworkgraveltour
DTEND:20250730T190000Z
DTSTAMP:20260424T151635Z
DTSTART:20250730T160000Z
LOCATION:Feuerseeplatz\, 70176 Stuttgart
SEQUENCE:0
SUMMARY:NEU: Gravel & Social – Afterwork-Graveltour
UID:ce222d24-188e-4581-83f3-08a624cea9f6
URL:https://touren-termine.adfc.de/radveranstaltung/158902-neu-gravel-soci
 al-afterworkgraveltour
END:VEVENT
END:VCALENDAR
