BEGIN:VCALENDAR
PRODID:-//github.com/rianjs/ical.net//NONSGML ical.net 4.0//EN
VERSION:2.0
BEGIN:VEVENT
DESCRIPTION:Wir fahren durch den schönen Südosten Berlins. Über Erkner nac
 h Grünau.\nhttps://touren-termine.adfc.de/radveranstaltung/122234-berline
 r-fahrradwoche-an-spree-und-dahme
DTEND:20240727T150000Z
DTSTAMP:20260421T233237Z
DTSTART:20240727T080000Z
LOCATION:S-Bhf. Treptower Park\, Ausgang Parkseite\, 12435 Berlin
SEQUENCE:0
SUMMARY:Berliner Fahrradwoche: An Spree und Dahme
UID:76896192-7a45-4a81-a2be-9672b970005d
URL:https://touren-termine.adfc.de/radveranstaltung/122234-berliner-fahrra
 dwoche-an-spree-und-dahme
END:VEVENT
END:VCALENDAR
