BEGIN:VCALENDAR
PRODID:-//github.com/rianjs/ical.net//NONSGML ical.net 4.0//EN
VERSION:2.0
BEGIN:VEVENT
DESCRIPTION:Unsere Geschäftsstelle ist für alle Anliegen und offenen Frage
 n geöffnet.\nhttps://touren-termine.adfc.de/radveranstaltung/147972-offnu
 ngszeit-unserer-geschaftsstelle
DTEND:20250606T160000Z
DTSTAMP:20260421T120640Z
DTSTART:20250606T140000Z
LOCATION:Essen (Innenstadt)\, ADFC Essen Geschäftsstelle\, Rottstraße 5\, 
 45127 Essen
SEQUENCE:0
SUMMARY:Öffnungszeit unserer Geschäftsstelle
UID:fa96f0bc-d226-4f4d-b3f7-283c03c023ee
URL:https://touren-termine.adfc.de/radveranstaltung/147972-offnungszeit-un
 serer-geschaftsstelle
END:VEVENT
END:VCALENDAR
