BEGIN:VCALENDAR
PRODID:-//github.com/rianjs/ical.net//NONSGML ical.net 4.0//EN
VERSION:2.0
BEGIN:VEVENT
DESCRIPTION:Jeden Mittwoch vom 1.4. bis zum 31.8.2026\nStart 18.oo am Rath
 aus Gbw\, ca 30km\nhttps://touren-termine.adfc.de/radveranstaltung/192725
 -kurztour
DTEND:20260506T180000Z
DTSTAMP:20260423T183127Z
DTSTART:20260506T160000Z
LOCATION:Fuhrberger Straße 4\, 30938 Burgwedel
SEQUENCE:0
SUMMARY:Kurztour
UID:810a631a-96b8-4f31-9d5e-80b402029110
URL:https://touren-termine.adfc.de/radveranstaltung/192725-kurztour
END:VEVENT
END:VCALENDAR
