BEGIN:VCALENDAR
PRODID:-//github.com/rianjs/ical.net//NONSGML ical.net 4.0//EN
VERSION:2.0
BEGIN:VEVENT
DESCRIPTION:46_km-Mittellandkanal_Schleuse_Anderten\nmit Einkehr "Gaststät
 te Alter Bahnhof" mit Biergarten\nhttps://touren-termine.adfc.de/radveran
 staltung/159280-halbtagstour-46kmschleuseanderten
DTEND:20250823T163000Z
DTSTAMP:20260423T105832Z
DTSTART:20250823T120000Z
LOCATION:Fuhrberger Straße 4\, 30938 Burgwedel
SEQUENCE:0
SUMMARY:Halbtagstour 46_km_Schleuse-Anderten
UID:757be40a-b71a-4411-b8b2-923d15ddc0d1
URL:https://touren-termine.adfc.de/radveranstaltung/159280-halbtagstour-46
 kmschleuseanderten
END:VEVENT
END:VCALENDAR
