BEGIN:VCALENDAR
PRODID:-//github.com/rianjs/ical.net//NONSGML ical.net 4.0//EN
VERSION:2.0
BEGIN:VEVENT
DESCRIPTION:Die Stadtteilgruppe Lichtenberg trifft sich jeden 1. Donnersta
 g im Monat.\nFahrradinteressierte aus Lichtenberg\, die mehr über unsere 
 Arbeit erfahren bzw. mitmachen möchten\, sind herzlich willkommen.\nhttps
 ://touren-termine.adfc.de/radveranstaltung/123233-treffen-der-stadtteilgr
 uppe-lichtenberg
DTEND:20250206T200000Z
DTSTAMP:20260420T120122Z
DTSTART:20250206T180000Z
LOCATION:Interkultureller Garten Lichtenberg\, Liebenwalder Straße 12 - 16
 \, 13055 Berlin
SEQUENCE:0
SUMMARY:Treffen der Stadtteilgruppe Lichtenberg
UID:a1e36a04-c837-4b93-8c49-01c5aa4e7074
URL:https://touren-termine.adfc.de/radveranstaltung/123233-treffen-der-sta
 dtteilgruppe-lichtenberg
END:VEVENT
END:VCALENDAR
