BEGIN:VCALENDAR
PRODID:-//github.com/rianjs/ical.net//NONSGML ical.net 4.0//EN
VERSION:2.0
BEGIN:VEVENT
DESCRIPTION:Strecke: Rotenburg\, Schwarzenhasel\, Königswald\, Bischhausen
 \, Sontra\, Dens\, Solz\, Bebra\, Rotenburg.\nhttps://touren-termine.adfc
 .de/radveranstaltung/182543-zwischen-rotenburg-und-werrameissner
DTEND:20260906T160000Z
DTSTAMP:20260421T125826Z
DTSTART:20260906T080000Z
LOCATION:Bahnhof Rotenburg an der Fulda\, 36199 Rotenburg an der Fulda
SEQUENCE:0
SUMMARY:Zwischen Rotenburg und Werra-Meißner
UID:169e093a-fd7c-48a0-bf9d-ec07e0769b55
URL:https://touren-termine.adfc.de/radveranstaltung/182543-zwischen-rotenb
 urg-und-werrameissner
END:VEVENT
END:VCALENDAR
