BEGIN:VCALENDAR
PRODID:-//github.com/rianjs/ical.net//NONSGML ical.net 4.0//EN
VERSION:2.0
BEGIN:VEVENT
DESCRIPTION:Bei unserer heutigen Foto - Radtour erkunden wir den Südosten 
 Nürnbergs. An ausgewählten Fotospots erproben wir unsere fotografischen F
 ähigkeiten. \nBringt euere Kamera oder Handy mit !\nhttps://touren-termin
 e.adfc.de/radveranstaltung/191018-fotostopps-out-of-nuremberg
DTEND:20260523T160000Z
DTSTAMP:20260423T202156Z
DTSTART:20260523T080000Z
LOCATION:Nürnberg\, Straßenbahnstation Gibitzenhof\, 90441 Nürnberg
SEQUENCE:0
SUMMARY:Fotostopps out of Nuremberg
UID:cab92b44-44b1-4634-b02e-6158a0c9d21b
URL:https://touren-termine.adfc.de/radveranstaltung/191018-fotostopps-out-
 of-nuremberg
END:VEVENT
END:VCALENDAR
