BEGIN:VCALENDAR
PRODID:-//github.com/rianjs/ical.net//NONSGML ical.net 4.0//EN
VERSION:2.0
BEGIN:VEVENT
DESCRIPTION:Von Bernau fahren wir zunächst über den Usedom-Radweg und dann
  entlang des Finowkanals zum Schiffshebewerk Niederfinow. Dort Besichtigu
 ng.\nhttps://touren-termine.adfc.de/radveranstaltung/159737-von-bernau-zu
 m-schiffshebewerk-niederfinow
DTEND:20250402T150000Z
DTSTAMP:20260424T144541Z
DTSTART:20250402T080000Z
LOCATION:Bhf. Bernau\, Vorplatz\, 16321 Bernau
SEQUENCE:0
SUMMARY:Von Bernau zum Schiffshebewerk Niederfinow
UID:83582f8a-7d3c-45f3-87a6-3ed66e21d820
URL:https://touren-termine.adfc.de/radveranstaltung/159737-von-bernau-zum-
 schiffshebewerk-niederfinow
END:VEVENT
END:VCALENDAR
