BEGIN:VCALENDAR
PRODID:-//github.com/rianjs/ical.net//NONSGML ical.net 4.0//EN
VERSION:2.0
BEGIN:VEVENT
DESCRIPTION:Gemütliche Radtour um und zu!\nhttps://touren-termine.adfc.de/
 radveranstaltung/198547-fruhlingserwachen-mit-dem-adfc-iserlohn
DTEND:20260425T130000Z
DTSTAMP:20260424T192938Z
DTSTART:20260425T080000Z
LOCATION:Iserlohn-Barendorf\, 58636 Iserlohn
SEQUENCE:0
SUMMARY:Frühlingserwachen mit dem ADFC Iserlohn
UID:4bfdb686-52d8-4c4f-bf27-3b4363c72cc8
URL:https://touren-termine.adfc.de/radveranstaltung/198547-fruhlingserwach
 en-mit-dem-adfc-iserlohn
END:VEVENT
END:VCALENDAR
