BEGIN:VCALENDAR
PRODID:-//github.com/rianjs/ical.net//NONSGML ical.net 4.0//EN
VERSION:2.0
BEGIN:VEVENT
DESCRIPTION:Von Pforzheim im Würmtal bis Tiefenbronn und weiter über Friol
 zheim und Rutesheim nach Stuttgart Feuerbach\nhttps://touren-termine.adfc
 .de/radveranstaltung/191252-von-pforzheim-nach-feuerbach
DTEND:20260417T140000Z
DTSTAMP:20260424T144413Z
DTSTART:20260417T073000Z
LOCATION:Baustraße Stuttgart 21\, 70173 Stuttgart
SEQUENCE:0
SUMMARY:Von Pforzheim nach Feuerbach
UID:3a6615cb-7316-4c70-a29c-204647d4f6a3
URL:https://touren-termine.adfc.de/radveranstaltung/191252-von-pforzheim-n
 ach-feuerbach
END:VEVENT
END:VCALENDAR
