BEGIN:VCALENDAR
PRODID:-//github.com/rianjs/ical.net//NONSGML ical.net 4.0//EN
VERSION:2.0
BEGIN:VEVENT
DESCRIPTION:Von Rinteln radeln wir über Großenwieden\, Segelhorst\, Bensen
 \, Pötzen\, Holtensen zum Schweineberg. Die Rückfahrt geht über Hameln au
 f dem Weserradweg nach Rinteln.\nhttps://touren-termine.adfc.de/radverans
 taltung/178795-marzenbecherblute-am-schweineberg
DTEND:20260308T160000Z
DTSTAMP:20260420T210033Z
DTSTART:20260308T090000Z
LOCATION:Nachtwächter \, Marktplatz 6\, 31737 Rinteln
SEQUENCE:0
SUMMARY:Märzenbecherblüte am Schweineberg
UID:41b3ccc5-6ed2-4f2e-aed8-f31208f36ca2
URL:https://touren-termine.adfc.de/radveranstaltung/178795-marzenbecherblu
 te-am-schweineberg
END:VEVENT
END:VCALENDAR
