BEGIN:VCALENDAR
PRODID:-//github.com/rianjs/ical.net//NONSGML ical.net 4.0//EN
VERSION:2.0
BEGIN:VEVENT
DESCRIPTION:Rauf aufs Rad für eine Spritztour in die Umgebung von Gauting!
 \nWöchentlich wechselnd naturkundliche Touren und Cappuccino-Touren.\nhtt
 ps://touren-termine.adfc.de/radveranstaltung/154558-wochentliche-nachmitt
 agstour-in-gauting
DTEND:20250715T150000Z
DTSTAMP:20260425T150338Z
DTSTART:20250715T120000Z
LOCATION:Rathaus\, Bahnhofstraße 7\, 82131 Gauting
SEQUENCE:0
SUMMARY:Wöchentliche Nachmittagstour in Gauting
UID:b16b8838-0f24-4754-9f0e-59a3ba4d900d
URL:https://touren-termine.adfc.de/radveranstaltung/154558-wochentliche-na
 chmittagstour-in-gauting
END:VEVENT
END:VCALENDAR
