BEGIN:VCALENDAR
PRODID:-//github.com/rianjs/ical.net//NONSGML ical.net 4.0//EN
VERSION:2.0
BEGIN:VEVENT
DESCRIPTION:Auf dem Wollmarkt bieten wir an: Bewachter Fahrradstellplatz\,
  Codierung\, Parcours\, Infostand\nhttps://touren-termine.adfc.de/radvera
 nstaltung/164469-wollmarkt-codierung-fahrradstellplatz-parcours
DTEND:20250504T160000Z
DTSTAMP:20260423T030612Z
DTSTART:20250504T093000Z
LOCATION:Lehrerparkplatz des Johannes-Althusius-Gymnasiums Höhe Poststr. 1
 2\, 57319 Bad Berleburg
SEQUENCE:0
SUMMARY:Wollmarkt: Codierung\, Fahrradstellplatz\, Parcours
UID:6943a689-dab9-4a22-ace9-b439a7357369
URL:https://touren-termine.adfc.de/radveranstaltung/164469-wollmarkt-codie
 rung-fahrradstellplatz-parcours
END:VEVENT
END:VCALENDAR
