BEGIN:VCALENDAR
PRODID:-//github.com/rianjs/ical.net//NONSGML ical.net 4.0//EN
VERSION:2.0
BEGIN:VEVENT
DESCRIPTION:Mit Bahn und Rad zum schwäbischen Familienunternehmen nach Wal
 denbuch. Genug Zeit\, das Museum oder den Shop von "Ritter Sport" ausgieb
 ig zu erkunden. Details bei der Anmeldung beim Tourenleiter.\nhttps://tou
 ren-termine.adfc.de/radveranstaltung/84602-waldenbuch-die-heimat-von-ritt
 er-sport
DTEND;VALUE=DATE:20230915
DTSTAMP:20260423T192436Z
DTSTART;VALUE=DATE:20230915
LOCATION:Bahnhof Westausgang\, 71638 Ludwigsburg
SEQUENCE:0
SUMMARY:Waldenbuch - die Heimat von "Ritter Sport"
UID:27681d47-7464-4e58-b592-9e238d22f2f2
URL:https://touren-termine.adfc.de/radveranstaltung/84602-waldenbuch-die-h
 eimat-von-ritter-sport
END:VEVENT
END:VCALENDAR
