BEGIN:VCALENDAR
PRODID:-//github.com/rianjs/ical.net//NONSGML ical.net 4.0//EN
VERSION:2.0
BEGIN:VEVENT
DESCRIPTION:Wöchentliche freitags Radtouren der ADFC Ortsgruppe Hattingen\
 nhttps://touren-termine.adfc.de/radveranstaltung/190012-auf-ins-wochenend
 e
DTEND:20260410T160000Z
DTSTAMP:20260421T204210Z
DTSTART:20260410T130000Z
LOCATION:Parkplatz Holschentor\, Talstraße 8\, 45525 Hattingen
SEQUENCE:0
SUMMARY:Auf ins Wochenende
UID:c3ea9e37-8bf9-440e-b04c-87016750b035
URL:https://touren-termine.adfc.de/radveranstaltung/190012-auf-ins-wochene
 nde
END:VEVENT
END:VCALENDAR
