BEGIN:VCALENDAR
PRODID:-//github.com/rianjs/ical.net//NONSGML ical.net 4.0//EN
VERSION:2.0
BEGIN:VEVENT
DESCRIPTION:Verschiedene Geschwindigkeitsgruppen: Pättkes-Tour (15-18 km/h
 )\, Flotte Tour (18-21 km/h)\, Schnelle Tour (21-25 km/h).\nZiel und Rout
 e werden beim Start bekannt gegeben.\nhttps://touren-termine.adfc.de/radv
 eranstaltung/179999-feierabendtour-rund-um-coesfeld-september
DTEND:20260914T180000Z
DTSTAMP:20260419T231628Z
DTSTART:20260914T160000Z
LOCATION:Marktplatz\, 48653 Coesfeld
SEQUENCE:0
SUMMARY:Feierabendtour rund um Coesfeld: September
UID:b3a9e8e4-74b0-4eb2-a3aa-2b04bcb347a1
URL:https://touren-termine.adfc.de/radveranstaltung/179999-feierabendtour-
 rund-um-coesfeld-september
END:VEVENT
END:VCALENDAR
