BEGIN:VCALENDAR
PRODID:-//github.com/rianjs/ical.net//NONSGML ical.net 4.0//EN
VERSION:2.0
BEGIN:VEVENT
DESCRIPTION:Einladung zur Mitgliederversammlung ADFC Bamberg\nhttps://tour
 en-termine.adfc.de/radveranstaltung/126104-mitgliederversammlung-adfc-bam
 berg
DTEND:20240322T200000Z
DTSTAMP:20260421T133336Z
DTSTART:20240322T180000Z
LOCATION:Moosstraße 32\, 96050 Bamberg
SEQUENCE:0
SUMMARY:Mitgliederversammlung ADFC Bamberg
UID:e5d7b307-b300-4c7e-b099-3890b12bdd6e
URL:https://touren-termine.adfc.de/radveranstaltung/126104-mitgliederversa
 mmlung-adfc-bamberg
END:VEVENT
END:VCALENDAR
