BEGIN:VCALENDAR
PRODID:-//github.com/rianjs/ical.net//NONSGML ical.net 4.0//EN
VERSION:2.0
BEGIN:VEVENT
DESCRIPTION:Wir fahren in Fahrgemeinschaften ins Alpenland. Das Ziel wird 
 bei der Anmeldung bekannt gegeben. Im Voralpenland und im 5 Seengebiet we
 rden ebenso Touren angeboten.\nhttps://touren-termine.adfc.de/radveransta
 ltung/190635-mtbbergtour-nach-wahl
DTEND:20270429T060000Z
DTSTAMP:20260425T150216Z
DTSTART:20260903T060000Z
LOCATION:Carolinenstraße 1a\, 82319 Starnberg
SEQUENCE:0
SUMMARY:MTB-Bergtour nach Wahl
UID:e4330d22-077e-4055-9bbb-f1bb7a1c7b59
URL:https://touren-termine.adfc.de/radveranstaltung/190635-mtbbergtour-nac
 h-wahl
END:VEVENT
END:VCALENDAR
