BEGIN:VCALENDAR
PRODID:-//github.com/rianjs/ical.net//NONSGML ical.net 4.0//EN
VERSION:2.0
BEGIN:VEVENT
DESCRIPTION:Wir fahren in Fahrgemeinschaften ins Alpenland. Auch im Voralp
 enland und im 5 Seengebiet sind ebenso Touren möglich.\nTourenbeschreibun
 g wird bei der Anmeldung bekannt gegeben\nhttps://touren-termine.adfc.de/
 radveranstaltung/120576-mtbbergtour-nach-wahl
DTEND:20240613T160000Z
DTSTAMP:20260425T150753Z
DTSTART:20240613T063000Z
LOCATION:Carolinenstraße 1a am Maibaum\, 82319 Söcking\, 82319 Starnberg
SEQUENCE:0
SUMMARY:MTB-Bergtour nach Wahl
UID:79aa5deb-e38f-4dfe-9732-e720d8042467
URL:https://touren-termine.adfc.de/radveranstaltung/120576-mtbbergtour-nac
 h-wahl
END:VEVENT
END:VCALENDAR
