BEGIN:VCALENDAR
PRODID:-//github.com/rianjs/ical.net//NONSGML ical.net 4.0//EN
VERSION:2.0
BEGIN:VEVENT
DESCRIPTION:Die Stadtteilgruppe Lichtenberg trifft sich jeden 1. Donnersta
 g im Monat.\nFahrradinteressierte aus Lichtenberg\, die mehr über unsere 
 Arbeit erfahren bzw. mitmachen möchten\, sind herzlich willkommen.\nhttps
 ://touren-termine.adfc.de/radveranstaltung/146810-treffen-der-stadtteilgr
 uppe-lichtenberg
DTEND:20250904T190000Z
DTSTAMP:20260420T120034Z
DTSTART:20250904T170000Z
LOCATION:Liebenwalder Straße 12 - 16\, 13055 Berlin
SEQUENCE:0
SUMMARY:Treffen der Stadtteilgruppe Lichtenberg
UID:01c4d8e7-a63c-4435-8d7f-63b1bb062147
URL:https://touren-termine.adfc.de/radveranstaltung/146810-treffen-der-sta
 dtteilgruppe-lichtenberg
END:VEVENT
END:VCALENDAR
