BEGIN:VCALENDAR
PRODID:-//github.com/rianjs/ical.net//NONSGML ical.net 4.0//EN
VERSION:2.0
BEGIN:VEVENT
DESCRIPTION:Kombinierte Fahrrad- und Schifffstour von Leverkusen nach Unke
 l oder Königswinter\nhttps://touren-termine.adfc.de/radveranstaltung/1278
 02-kombinierte-fahrradschifffstour-unkel
DTEND:20240709T200000Z
DTSTAMP:20260421T120953Z
DTSTART:20240709T060000Z
LOCATION:Tannenbergstraße\, unter der Stelzenautobahn\, 51373 Leverkusen
SEQUENCE:0
SUMMARY:Kombinierte Fahrrad-Schifffstour Unkel
UID:22e79791-d0b5-430a-a97f-0204ed333741
URL:https://touren-termine.adfc.de/radveranstaltung/127802-kombinierte-fah
 rradschifffstour-unkel
END:VEVENT
END:VCALENDAR
