BEGIN:VCALENDAR
PRODID:-//github.com/rianjs/ical.net//NONSGML ical.net 4.0//EN
VERSION:2.0
BEGIN:VEVENT
DESCRIPTION:Über Wemlighausen zur Ziegenhelle. Auf dem Rückweg ist eine Ei
 nkehr im Gasthof Laibach geplant. Anmeldung erforderlich bis Freitag\, 11
 . Oktober.\nhttps://touren-termine.adfc.de/radveranstaltung/140395-herbst
 tour-zur-ziegenhelle
DTEND:20241012T150000Z
DTSTAMP:20260423T031248Z
DTSTART:20241012T090000Z
LOCATION:Bahnhof Bad Berleburg\, 57319 Bad Berleburg
SEQUENCE:0
SUMMARY:Herbsttour zur Ziegenhelle
UID:654d8a13-f055-455e-a14a-c4ffc76eae5d
URL:https://touren-termine.adfc.de/radveranstaltung/140395-herbsttour-zur-
 ziegenhelle
END:VEVENT
END:VCALENDAR
