BEGIN:VCALENDAR
PRODID:-//github.com/rianjs/ical.net//NONSGML ical.net 4.0//EN
VERSION:2.0
BEGIN:VEVENT
DESCRIPTION:Von Briesen seenreich und am Mühlenfließ entlang zu Kaffee und
  Kuchen in Mallnow. Die Oder und die Adonisröschen grüßen auf dem Weg nac
 h Frankfurt. Je nach Variante: 67 bzw. 62 km. Mit Anmeldung.\nhttps://tou
 ren-termine.adfc.de/radveranstaltung/175035-adonis
DTEND:20260412T160000Z
DTSTAMP:20260424T190335Z
DTSTART:20260412T065000Z
LOCATION:Bhf. Friedrichstraße\, DB Reisecenter\, 10117 Berlin
SEQUENCE:0
SUMMARY:Adonis
UID:d7a836e4-098b-4b24-b9ce-38cc96ea333e
URL:https://touren-termine.adfc.de/radveranstaltung/175035-adonis
END:VEVENT
END:VCALENDAR
