BEGIN:VCALENDAR
PRODID:-//github.com/rianjs/ical.net//NONSGML ical.net 4.0//EN
VERSION:2.0
BEGIN:VEVENT
DESCRIPTION:Alle Mitglieder*innen und interessierte Bürger*innen sind herz
 lich eingeladen.\nBesprochen werden aktuelle Radthemen\, sowie die erfolg
 ten und geplanten Touren.\nhttps://touren-termine.adfc.de/radveranstaltun
 g/106163-septembertreffen-der-oranienburger-ortsgruppe
DTEND:20230920T180000Z
DTSTAMP:20260425T201351Z
DTSTART:20230920T160000Z
LOCATION:Sonnenburg\, Robert-Koch-Straße 67\, 16515 Oranienburg
SEQUENCE:0
SUMMARY:September-Treffen der Oranienburger Ortsgruppe
UID:e4dd48c8-491c-4bef-80e7-9eaf58c5db9f
URL:https://touren-termine.adfc.de/radveranstaltung/106163-septembertreffe
 n-der-oranienburger-ortsgruppe
END:VEVENT
END:VCALENDAR
