BEGIN:VCALENDAR
PRODID:-//github.com/rianjs/ical.net//NONSGML ical.net 4.0//EN
VERSION:2.0
BEGIN:VEVENT
DESCRIPTION:Bei der Codierung von Fahrrädern werden Angaben über die Besit
 zer*in verschlüsselt am Fahrrad angebracht.\nEine Anmeldung ist unbedingt
  erforderlich\nhttps://touren-termine.adfc.de/radveranstaltung/127034-fah
 rradcodierung-so-1200-bis-1230-uhr
DTEND:20240310T113000Z
DTSTAMP:20260420T232342Z
DTSTART:20240310T110000Z
LOCATION:Koppel 34 - 36\, 20099 Hamburg\, St. Georg
SEQUENCE:0
SUMMARY:Fahrrad-Codierung So. 12:00 bis 12:30 Uhr
UID:e3f6f54f-cd40-41f4-a456-98639ffdaac2
URL:https://touren-termine.adfc.de/radveranstaltung/127034-fahrradcodierun
 g-so-1200-bis-1230-uhr
END:VEVENT
END:VCALENDAR
