BEGIN:VCALENDAR
PRODID:-//github.com/rianjs/ical.net//NONSGML ical.net 4.0//EN
VERSION:2.0
BEGIN:VEVENT
DESCRIPTION:Unsere Geschäftsstelle ist für alle Anliegen und offenen Frage
 n geöffnet.\nhttps://touren-termine.adfc.de/radveranstaltung/130260-offnu
 ngszeit-unserer-geschaftsstelle
DTEND:20240502T160000Z
DTSTAMP:20260421T121019Z
DTSTART:20240502T140000Z
LOCATION:Essen (Innenstadt)\, ADFC Essen Geschäftsstelle\, Rottstraße 5\, 
 45127 Essen
SEQUENCE:0
SUMMARY:Öffnungszeit unserer Geschäftsstelle
UID:0f7a73ab-3eb4-43c2-821a-d90723727582
URL:https://touren-termine.adfc.de/radveranstaltung/130260-offnungszeit-un
 serer-geschaftsstelle
END:VEVENT
END:VCALENDAR
