BEGIN:VCALENDAR
PRODID:-//github.com/rianjs/ical.net//NONSGML ical.net 4.0//EN
VERSION:2.0
BEGIN:VEVENT
DESCRIPTION:Als Einstieg in die Radtourensaison: eine leichte Tour zwische
 n Schwandorf und Murner See\nhttps://touren-termine.adfc.de/radveranstalt
 ung/149459-radtour-rund-um-schwandorf-zum-eingewohnen
DTEND:20250413T140000Z
DTSTAMP:20260424T151232Z
DTSTART:20250413T080000Z
LOCATION:Bahnhofsplatz\, 92421 Schwandorf
SEQUENCE:0
SUMMARY:Radtour rund um Schwandorf: zum Eingewöhnen
UID:68fa0293-f337-4929-8164-aa928a910895
URL:https://touren-termine.adfc.de/radveranstaltung/149459-radtour-rund-um
 -schwandorf-zum-eingewohnen
END:VEVENT
END:VCALENDAR
