BEGIN:VCALENDAR
PRODID:-//github.com/rianjs/ical.net//NONSGML ical.net 4.0//EN
VERSION:2.0
BEGIN:VEVENT
DESCRIPTION:Von Feuerbach über Ludwigsburg zum Asperg und weiter über Schw
 ieberdingen und Ditzingen zurück\nhttps://touren-termine.adfc.de/radveran
 staltung/140107-von-feuerbach-nach-asperg-und-zuruck
DTEND:20241110T150000Z
DTSTAMP:20260424T144356Z
DTSTART:20241110T090000Z
LOCATION:Wiener Platz\, 70469 Stuttgart
SEQUENCE:0
SUMMARY:Von Feuerbach nach Asperg und zurück
UID:852cbcac-978f-4212-81f7-f79c1fd3053a
URL:https://touren-termine.adfc.de/radveranstaltung/140107-von-feuerbach-n
 ach-asperg-und-zuruck
END:VEVENT
END:VCALENDAR
