BEGIN:VCALENDAR
PRODID:-//github.com/rianjs/ical.net//NONSGML ical.net 4.0//EN
VERSION:2.0
BEGIN:VEVENT
DESCRIPTION:Wir fahren über die Dörfer nach Bückeburg.Weiter geht es zum C
 ontainerhafen am Mittellandkanal. Über Cammer\, Quetzen  und Bierde errei
 chen wir die Webstube in Ilse.\nhttps://touren-termine.adfc.de/radveranst
 altung/178519-webstube-in-ilse
DTEND:20260913T150000Z
DTSTAMP:20260420T173704Z
DTSTART:20260913T080000Z
LOCATION:Marktplatz \,Marktbrunnen\, 31655 Stadthagen
SEQUENCE:0
SUMMARY:Webstube in Ilse
UID:6958a8ba-6811-49e9-bb85-3b9f5b078e84
URL:https://touren-termine.adfc.de/radveranstaltung/178519-webstube-in-ilse
END:VEVENT
END:VCALENDAR
