BEGIN:VCALENDAR
PRODID:-//github.com/rianjs/ical.net//NONSGML ical.net 4.0//EN
VERSION:2.0
BEGIN:VEVENT
DESCRIPTION:Die Tour streift die historischen Ortskerne der ehemals selbst
 ständigen Dörfer im Norden der Stadt Celle. Die Streckenführung ist angel
 ehnt an den Celler Radrundweg CR1.\nhttps://touren-termine.adfc.de/radver
 anstaltung/159856-auf-den-spuren-alter-dorfer
DTEND:20250504T120000Z
DTSTAMP:20260421T151830Z
DTSTART:20250504T080000Z
LOCATION:Herzogin-Eleonore-Allee / Am Teich im Französischen Garten\, 2922
 1 Celle
SEQUENCE:0
SUMMARY:Auf den Spuren alter Dörfer
UID:cf5ea0cf-89f3-4ebc-813e-3d54be3d1574
URL:https://touren-termine.adfc.de/radveranstaltung/159856-auf-den-spuren-
 alter-dorfer
END:VEVENT
END:VCALENDAR
